BEGIN:VCALENDAR
VERSION:2.0
CALSCALE:GREGORIAN
PRODID:-//Diputació de Barcelona//DibaCMS//EN
BEGIN:VEVENT
UID:2741
DTSTAMP:20260419T222734
DTSTART:20260308T090000
DTEND:20260308T130000
SUMMARY:Caminada del 8M
LOCATION:Plaça de Sant Antoni 
METHOD:PUBLISH
X-WR-CALNAME:perafita@perafita.cat
X-WR-TIMEZONE:Europe/Madrid
DESCRIPTION:
URI:https://www.perafita.cat/actualitat/agenda/caminada-del-8m.html
CLASS:PUBLIC
END:VEVENT
END:VCALENDAR
