BEGIN:VCALENDAR
VERSION:2.0
CALSCALE:GREGORIAN
PRODID:-//Diputació de Barcelona//DibaCMS//EN
BEGIN:VEVENT
UID:2737
DTSTAMP:20260419T150526
DTSTART:20260314T190000
DTEND:20260314T203000
SUMMARY:"Muntanyes, somriures...i solidaritat"
LOCATION:Sala Polivalent 
METHOD:PUBLISH
X-WR-CALNAME:perafita@perafita.cat
X-WR-TIMEZONE:Europe/Madrid
DESCRIPTION:
URI:https://www.perafita.cat/actualitat/agenda/muntanyes-somriuresi-solidaritat.html
CLASS:PUBLIC
END:VEVENT
END:VCALENDAR
