BEGIN:VCALENDAR
VERSION:2.0
CALSCALE:GREGORIAN
PRODID:-//Diputació de Barcelona//DibaCMS//EN
BEGIN:VEVENT
UID:2730
DTSTAMP:20260419T190921
DTSTART:20260130T213000
DTEND:20260130T230000
SUMMARY:La Mirandolina
LOCATION:Pavelló 
METHOD:PUBLISH
X-WR-CALNAME:perafita@perafita.cat
X-WR-TIMEZONE:Europe/Madrid
DESCRIPTION:
URI:https://www.perafita.cat/actualitat/agenda/la-mirandolina.html
CLASS:PUBLIC
END:VEVENT
END:VCALENDAR
