BEGIN:VCALENDAR
VERSION:2.0
CALSCALE:GREGORIAN
PRODID:-//Diputació de Barcelona//DibaCMS//EN
BEGIN:VEVENT
UID:2727
DTSTAMP:20260419T185734
DTSTART:20260114T190000
DTEND:20260114T200000
SUMMARY:"Contes del bosc" de Saulo Pujolàs
LOCATION:Altell de Cal Prats 
METHOD:PUBLISH
X-WR-CALNAME:perafita@perafita.cat
X-WR-TIMEZONE:Europe/Madrid
DESCRIPTION:
URI:https://www.perafita.cat/actualitat/agenda/2727-contes-del-bosc-de-saulo-pujolas.html
CLASS:PUBLIC
END:VEVENT
END:VCALENDAR
