BEGIN:VCALENDAR
VERSION:2.0
CALSCALE:GREGORIAN
PRODID:-//Diputació de Barcelona//DibaCMS//EN
BEGIN:VEVENT
UID:2726
DTSTAMP:20260419T190834
DTSTART:20251229T000000
DTEND:20251229T000000
SUMMARY:"Contes del bosc" de Saulo Pujolàs
LOCATION:
METHOD:PUBLISH
X-WR-CALNAME:perafita@perafita.cat
X-WR-TIMEZONE:Europe/Madrid
DESCRIPTION:
URI:https://www.perafita.cat/actualitat/agenda/contes-del-bosc-de-saulo-pujolas.html
CLASS:PUBLIC
END:VEVENT
END:VCALENDAR
