BEGIN:VCALENDAR
VERSION:2.0
CALSCALE:GREGORIAN
PRODID:-//Diputació de Barcelona//DibaCMS//EN
BEGIN:VEVENT
UID:2725
DTSTAMP:20260419T172944
DTSTART:20260109T180000
DTEND:20260109T200000
SUMMARY:Presentació i tertúlia a càrrec de David Vila Ros
LOCATION:Altell de Cal Prats 
METHOD:PUBLISH
X-WR-CALNAME:perafita@perafita.cat
X-WR-TIMEZONE:Europe/Madrid
DESCRIPTION:Presentació del llibre A la lluna, de l'escriptor David Vila i Ros.

URI:https://www.perafita.cat/actualitat/agenda/presentacio-i-tertulia-a-carrec-de-david-vila-ros.html
CLASS:PUBLIC
END:VEVENT
END:VCALENDAR
