BEGIN:VCALENDAR
VERSION:2.0
CALSCALE:GREGORIAN
PRODID:-//Diputació de Barcelona//DibaCMS//EN
BEGIN:VEVENT
UID:2724
DTSTAMP:20260420T013507
DTSTART:20251217T183000
DTEND:20251217T200000
SUMMARY:Taula rodona sobre la zoonosis
LOCATION:Altell de Cal Prats 
METHOD:PUBLISH
X-WR-CALNAME:perafita@perafita.cat
X-WR-TIMEZONE:Europe/Madrid
DESCRIPTION:
URI:https://www.perafita.cat/actualitat/agenda/taula-rodona-sobre-la-zoonosis.html
CLASS:PUBLIC
END:VEVENT
END:VCALENDAR
