BEGIN:VCALENDAR
VERSION:2.0
CALSCALE:GREGORIAN
PRODID:-//Diputació de Barcelona//DibaCMS//EN
BEGIN:VEVENT
UID:2723
DTSTAMP:20260419T155946
DTSTART:20251229T180000
DTEND:20251229T193000
SUMMARY:Aroma & Festa: Viu les festes amb consciència
LOCATION:Altell de Cal Prats 
METHOD:PUBLISH
X-WR-CALNAME:perafita@perafita.cat
X-WR-TIMEZONE:Europe/Madrid
DESCRIPTION:
URI:https://www.perafita.cat/actualitat/agenda/aroma-and-festa-viu-les-festes-amb-consciencia.html
CLASS:PUBLIC
END:VEVENT
END:VCALENDAR
