BEGIN:VCALENDAR
VERSION:2.0
CALSCALE:GREGORIAN
PRODID:-//Diputació de Barcelona//DibaCMS//EN
BEGIN:VEVENT
UID:2722
DTSTAMP:20260419T173031
DTSTART:20251230T163000
DTEND:20251230T180000
SUMMARY:El conte d'una nit d'hivern
LOCATION:Sala polivalent del centre de Cultura 
METHOD:PUBLISH
X-WR-CALNAME:perafita@perafita.cat
X-WR-TIMEZONE:Europe/Madrid
DESCRIPTION:
URI:https://www.perafita.cat/actualitat/agenda/el-conte-duna-nit-dhivern.html
CLASS:PUBLIC
END:VEVENT
END:VCALENDAR
