BEGIN:VCALENDAR
VERSION:2.0
CALSCALE:GREGORIAN
PRODID:-//Diputació de Barcelona//DibaCMS//EN
BEGIN:VEVENT
UID:2718
DTSTAMP:20260419T155835
DTSTART:20251117T180000
DTEND:20251117T200000
SUMMARY:Taller d'elaboració d'espelmes
LOCATION:Altell de cal Prats 
METHOD:PUBLISH
X-WR-CALNAME:perafita@perafita.cat
X-WR-TIMEZONE:Europe/Madrid
DESCRIPTION:
URI:https://www.perafita.cat/actualitat/agenda/taller-delaboracio-despelmes.html
CLASS:PUBLIC
END:VEVENT
END:VCALENDAR
