BEGIN:VCALENDAR
VERSION:2.0
CALSCALE:GREGORIAN
PRODID:-//Diputació de Barcelona//DibaCMS//EN
BEGIN:VEVENT
UID:2713
DTSTAMP:20260419T173019
DTSTART:20251012T090000
DTEND:20251012T130000
SUMMARY:Festa del Remei
LOCATION:
METHOD:PUBLISH
X-WR-CALNAME:perafita@perafita.cat
X-WR-TIMEZONE:Europe/Madrid
DESCRIPTION:
URI:https://www.perafita.cat/actualitat/agenda/2713-festa-del-remei.html
CLASS:PUBLIC
END:VEVENT
END:VCALENDAR
