BEGIN:VCALENDAR
VERSION:2.0
CALSCALE:GREGORIAN
PRODID:-//Diputació de Barcelona//DibaCMS//EN
BEGIN:VEVENT
UID:2712
DTSTAMP:20260419T220044
DTSTART:20251019T090000
DTEND:20251019T130000
SUMMARY:Trobada d'escriptors, il.lustradors, lletraferits i amants dels llibres
LOCATION:Parc de la Font Nova 
METHOD:PUBLISH
X-WR-CALNAME:perafita@perafita.cat
X-WR-TIMEZONE:Europe/Madrid
DESCRIPTION:
URI:https://www.perafita.cat/actualitat/agenda/2712-trobada-descriptors-illustradors-lletraferits-i-amants-dels-llibres.html
CLASS:PUBLIC
END:VEVENT
END:VCALENDAR
