BEGIN:VCALENDAR
VERSION:2.0
CALSCALE:GREGORIAN
PRODID:-//Diputació de Barcelona//DibaCMS//EN
BEGIN:VEVENT
UID:2711
DTSTAMP:20260419T172844
DTSTART:20251113T110000
DTEND:20251113T130000
SUMMARY:Taller de confitures de fruits silvestres
LOCATION:Sala Polivalent del Centre de cultura 
METHOD:PUBLISH
X-WR-CALNAME:perafita@perafita.cat
X-WR-TIMEZONE:Europe/Madrid
DESCRIPTION:
URI:https://www.perafita.cat/actualitat/agenda/taller-de-confitures-de-fruits-silvestres.html
CLASS:PUBLIC
END:VEVENT
END:VCALENDAR
