BEGIN:VCALENDAR
VERSION:2.0
CALSCALE:GREGORIAN
PRODID:-//Diputació de Barcelona//DibaCMS//EN
BEGIN:VEVENT
UID:2708
DTSTAMP:20260419T160045
DTSTART:20250919T190000
DTEND:20250919T203000
SUMMARY:Presentació 
LOCATION:L'Altell de Cal Prats 
METHOD:PUBLISH
X-WR-CALNAME:perafita@perafita.cat
X-WR-TIMEZONE:Europe/Madrid
DESCRIPTION:
URI:https://www.perafita.cat/actualitat/agenda/presentacio-.html
CLASS:PUBLIC
END:VEVENT
END:VCALENDAR
