BEGIN:VCALENDAR
VERSION:2.0
CALSCALE:GREGORIAN
PRODID:-//Diputació de Barcelona//DibaCMS//EN
BEGIN:VEVENT
UID:2705
DTSTAMP:20260419T172742
DTSTART:20250911T100000
DTEND:20250911T130000
SUMMARY:Actes 11 de setembre
LOCATION:Plaça de Sant Antoni 
METHOD:PUBLISH
X-WR-CALNAME:perafita@perafita.cat
X-WR-TIMEZONE:Europe/Madrid
DESCRIPTION:
URI:https://www.perafita.cat/actualitat/agenda/actes-11-de-setembre.html
CLASS:PUBLIC
END:VEVENT
END:VCALENDAR
