BEGIN:VCALENDAR
VERSION:2.0
CALSCALE:GREGORIAN
PRODID:-//Diputació de Barcelona//DibaCMS//EN
BEGIN:VEVENT
UID:2704
DTSTAMP:20260419T190010
DTSTART:20250906T073000
DTEND:20250906T130000
SUMMARY:36ª Caminada Perafita-Els Munts
LOCATION:Plaça de Sant Antoni 
METHOD:PUBLISH
X-WR-CALNAME:perafita@perafita.cat
X-WR-TIMEZONE:Europe/Madrid
DESCRIPTION:Cal inscripció prèvia trucant a l'Ajuntament.

URI:https://www.perafita.cat/actualitat/agenda/36a-caminada-perafita-els-munts.html
CLASS:PUBLIC
END:VEVENT
END:VCALENDAR
