BEGIN:VCALENDAR
VERSION:2.0
CALSCALE:GREGORIAN
PRODID:-//Diputació de Barcelona//DibaCMS//EN
BEGIN:VEVENT
UID:2703
DTSTAMP:20260419T155901
DTSTART:20250828T213000
DTEND:20250828T230000
SUMMARY:Processó de Sant Agustí
LOCATION:Plaça de Sant Antoni 
METHOD:PUBLISH
X-WR-CALNAME:perafita@perafita.cat
X-WR-TIMEZONE:Europe/Madrid
DESCRIPTION:
URI:https://www.perafita.cat/actualitat/agenda/2703-processo-de-sant-agusti.html
CLASS:PUBLIC
END:VEVENT
END:VCALENDAR
