BEGIN:VCALENDAR
VERSION:2.0
CALSCALE:GREGORIAN
PRODID:-//Diputació de Barcelona//DibaCMS//EN
BEGIN:VEVENT
UID:2698
DTSTAMP:20260419T173110
DTSTART:20250831T173000
DTEND:20250831T220000
SUMMARY:32ª Trobada d'acordionistes
LOCATION:Pavelló municipal 
METHOD:PUBLISH
X-WR-CALNAME:perafita@perafita.cat
X-WR-TIMEZONE:Europe/Madrid
DESCRIPTION:
URI:https://www.perafita.cat/actualitat/agenda/32a-trobada-dacordionistes.html
CLASS:PUBLIC
END:VEVENT
END:VCALENDAR
