BEGIN:VCALENDAR
VERSION:2.0
CALSCALE:GREGORIAN
PRODID:-//Diputació de Barcelona//DibaCMS//EN
BEGIN:VEVENT
UID:2696
DTSTAMP:20260419T172643
DTSTART:20250801T190000
DTEND:20250801T230000
SUMMARY:Perifèria Cultural - Concerts 1 d'agost
LOCATION:Parc de can Riera 
METHOD:PUBLISH
X-WR-CALNAME:perafita@perafita.cat
X-WR-TIMEZONE:Europe/Madrid
DESCRIPTION:Trio de dames: Maria del Mar Bonet, Namina i Maria Nicolau

Es poden adquirir les entrades al següent enllaç: https://periferiacultural.cat/

URI:https://www.perafita.cat/actualitat/agenda/periferia-cultural-concerts-1-dagost.html
CLASS:PUBLIC
END:VEVENT
END:VCALENDAR
