BEGIN:VCALENDAR
VERSION:2.0
CALSCALE:GREGORIAN
PRODID:-//Diputació de Barcelona//DibaCMS//EN
BEGIN:VEVENT
UID:2695
DTSTAMP:20260419T155758
DTSTART:20250713T180000
DTEND:20250713T230000
SUMMARY:Perifèria Cultural - Concerts 13 de juliol
LOCATION:Parc de can Riera 
METHOD:PUBLISH
X-WR-CALNAME:perafita@perafita.cat
X-WR-TIMEZONE:Europe/Madrid
DESCRIPTION:L'esperit de la resistència creativa: d'Esparraguera a l'Alguer.

Artistes: Ferran palau i Franca Masu.

Les entrades es poden adquirir al següent enllaç: https://periferiacultural.cat/

URI:https://www.perafita.cat/actualitat/agenda/periferia-cultural-concerts-13-de-juliol.html
CLASS:PUBLIC
END:VEVENT
END:VCALENDAR
