BEGIN:VCALENDAR
VERSION:2.0
CALSCALE:GREGORIAN
PRODID:-//Diputació de Barcelona//DibaCMS//EN
BEGIN:VEVENT
UID:2692
DTSTAMP:20260419T221953
DTSTART:20250720T090000
DTEND:20250720T130000
SUMMARY:Aplec a Santa Margarida
LOCATION:
METHOD:PUBLISH
X-WR-CALNAME:perafita@perafita.cat
X-WR-TIMEZONE:Europe/Madrid
DESCRIPTION:
URI:https://www.perafita.cat/actualitat/agenda/aplec-a-santa-margarida.html
CLASS:PUBLIC
END:VEVENT
END:VCALENDAR
