BEGIN:VCALENDAR
VERSION:2.0
CALSCALE:GREGORIAN
PRODID:-//Diputació de Barcelona//DibaCMS//EN
BEGIN:VEVENT
UID:2690
DTSTAMP:20260419T204139
DTSTART:20250622T073000
DTEND:20250622T130000
SUMMARY:Caminada popular de Perafita
LOCATION:Plaça de Sant Antoni 
METHOD:PUBLISH
X-WR-CALNAME:perafita@perafita.cat
X-WR-TIMEZONE:Europe/Madrid
DESCRIPTION:
URI:https://www.perafita.cat/actualitat/agenda/2690-caminada-popular-de-perafita.html
CLASS:PUBLIC
END:VEVENT
END:VCALENDAR
