BEGIN:VCALENDAR
VERSION:2.0
CALSCALE:GREGORIAN
PRODID:-//Diputació de Barcelona//DibaCMS//EN
BEGIN:VEVENT
UID:2689
DTSTAMP:20260419T204532
DTSTART:20250621T190000
DTEND:20250621T203000
SUMMARY:Nepal: muntanyes i somriures
LOCATION:sala polivalent del Centre de Cultura 
METHOD:PUBLISH
X-WR-CALNAME:perafita@perafita.cat
X-WR-TIMEZONE:Europe/Madrid
DESCRIPTION:
URI:https://www.perafita.cat/actualitat/agenda/nepal-muntanyes-i-somriures.html
CLASS:PUBLIC
END:VEVENT
END:VCALENDAR
