BEGIN:VCALENDAR
VERSION:2.0
CALSCALE:GREGORIAN
PRODID:-//Diputació de Barcelona//DibaCMS//EN
BEGIN:VEVENT
UID:2686
DTSTAMP:20260419T204646
DTSTART:20250623T160000
DTEND:20250623T170000
SUMMARY:Rebuda de la Flama del Canigó
LOCATION:Plaça de Sant Antoni 
METHOD:PUBLISH
X-WR-CALNAME:perafita@perafita.cat
X-WR-TIMEZONE:Europe/Madrid
DESCRIPTION:Lectura de manifest i petit refrigeri

URI:https://www.perafita.cat/actualitat/agenda/2686-rebuda-de-la-flama-del-canigo.html
CLASS:PUBLIC
END:VEVENT
END:VCALENDAR
