BEGIN:VCALENDAR
VERSION:2.0
CALSCALE:GREGORIAN
PRODID:-//Diputació de Barcelona//DibaCMS//EN
BEGIN:VEVENT
UID:2674
DTSTAMP:20260419T184850
DTSTART:20250519T180000
DTEND:20250519T200000
SUMMARY:La llibertat d'estimar
LOCATION:El Niu 
METHOD:PUBLISH
X-WR-CALNAME:perafita@perafita.cat
X-WR-TIMEZONE:Europe/Madrid
DESCRIPTION:Taller reflexiu i creatiu en motiu del Dia Internacional de l'orgull LGTBI.

URI:https://www.perafita.cat/actualitat/agenda/la-llibertat-destimar.html
CLASS:PUBLIC
END:VEVENT
END:VCALENDAR
