BEGIN:VCALENDAR
VERSION:2.0
CALSCALE:GREGORIAN
PRODID:-//Diputació de Barcelona//DibaCMS//EN
BEGIN:VEVENT
UID:2671
DTSTAMP:20260419T160018
DTSTART:20250523T190000
DTEND:20250523T203000
SUMMARY:Tertúlia-recital "Així com Penèlope"
LOCATION:Sala polivalent del Centre de Cultura 
METHOD:PUBLISH
X-WR-CALNAME:perafita@perafita.cat
X-WR-TIMEZONE:Europe/Madrid
DESCRIPTION:Lectura teatralitzada dels membres del Club de lectura de Perafita.

URI:https://www.perafita.cat/actualitat/agenda/tertulia-recital-aixi-com-penelope.html
CLASS:PUBLIC
END:VEVENT
END:VCALENDAR
