BEGIN:VCALENDAR
VERSION:2.0
CALSCALE:GREGORIAN
PRODID:-//Diputació de Barcelona//DibaCMS//EN
BEGIN:VEVENT
UID:2669
DTSTAMP:20260419T171311
DTSTART:20250426T150000
DTEND:20250426T200000
SUMMARY:Campionat de botifarra 
LOCATION:Pavelló municipal 
METHOD:PUBLISH
X-WR-CALNAME:perafita@perafita.cat
X-WR-TIMEZONE:Europe/Madrid
DESCRIPTION:
URI:https://www.perafita.cat/actualitat/agenda/campionat-de-botifarra-.html
CLASS:PUBLIC
END:VEVENT
END:VCALENDAR
