BEGIN:VCALENDAR
VERSION:2.0
CALSCALE:GREGORIAN
PRODID:-//Diputació de Barcelona//DibaCMS//EN
BEGIN:VEVENT
UID:2666
DTSTAMP:20260419T154455
DTSTART:20250318T183000
DTEND:20250318T200000
SUMMARY:Es por reparar un cor trencat?
LOCATION:Sala Polivalent del Centre de Cultura 
METHOD:PUBLISH
X-WR-CALNAME:perafita@perafita.cat
X-WR-TIMEZONE:Europe/Madrid
DESCRIPTION:
URI:https://www.perafita.cat/actualitat/agenda/es-por-reparar-un-cor-trencat.html
CLASS:PUBLIC
END:VEVENT
END:VCALENDAR
