BEGIN:VCALENDAR
VERSION:2.0
CALSCALE:GREGORIAN
PRODID:-//Diputació de Barcelona//DibaCMS//EN
BEGIN:VEVENT
UID:2660
DTSTAMP:20260419T154733
DTSTART:20250308T130000
DTEND:20250308T200000
SUMMARY:Dinar de dones 
LOCATION:Pavelló 
METHOD:PUBLISH
X-WR-CALNAME:perafita@perafita.cat
X-WR-TIMEZONE:Europe/Madrid
DESCRIPTION:
URI:https://www.perafita.cat/actualitat/agenda/dinar-de-dones-.html
CLASS:PUBLIC
END:VEVENT
END:VCALENDAR
