BEGIN:VCALENDAR
VERSION:2.0
CALSCALE:GREGORIAN
PRODID:-//Diputació de Barcelona//DibaCMS//EN
BEGIN:VEVENT
UID:2626
DTSTAMP:20260421T190402
DTSTART:20241212T190000
DTEND:20241212T200000
SUMMARY:Cançoner intercultural del Lluçanès
LOCATION:Local Social de Santa Creu 
METHOD:PUBLISH
X-WR-CALNAME:perafita@perafita.cat
X-WR-TIMEZONE:Europe/Madrid
DESCRIPTION:El proper dijous 12 de desembre a les 19h al local social de Sta CreU de Jutglar tindrà lloc la presentació del CANÇONER INTERCULTURAL DEL LLUÇANÈS amb una mostra cantada de les cançons per part dels alumnes dels cursos de català inicial dels municipis d'ALPENS, SANT FELIU SASSERRA, PRATS DE LLUÇANÈS, SANT BOI DE LLUÇANÈS, PERAFITA I SANT BARTOMEU DEL GRAU. És un acte obert a tothom en el qual es podrà recollir un exemplar del cançoner en paper.

URI:https://www.perafita.cat/actualitat/agenda/canconer-intercultural-del-llucanes.html
CLASS:PUBLIC
END:VEVENT
END:VCALENDAR
