BEGIN:VCALENDAR
VERSION:2.0
CALSCALE:GREGORIAN
PRODID:-//Diputació de Barcelona//DibaCMS//EN
BEGIN:VEVENT
UID:2608
DTSTAMP:20260419T172903
DTSTART:20241122T180000
DTEND:20241122T200000
SUMMARY:Xerrada-taller d'aromateràpia
LOCATION:Golpes Cal Prats 
METHOD:PUBLISH
X-WR-CALNAME:perafita@perafita.cat
X-WR-TIMEZONE:Europe/Madrid
DESCRIPTION:En motiu del 25N, Laia Serradell i Silvia Puig, duran a terme una xerrada-taller sobre els olis essencials per combatre els mesos de fred. Us hi esperem!

URI:https://www.perafita.cat/actualitat/agenda/xerrada-taller-daromaterapia.html
CLASS:PUBLIC
END:VEVENT
END:VCALENDAR
