BEGIN:VCALENDAR
VERSION:2.0
CALSCALE:GREGORIAN
PRODID:-//Diputació de Barcelona//DibaCMS//EN
BEGIN:VEVENT
UID:2600
DTSTAMP:20260422T102907
DTSTART:20241023T183000
DTEND:20241218T200000
SUMMARY:EmocionA'rt al Lluçanès
LOCATION:El Niu 
METHOD:PUBLISH
X-WR-CALNAME:perafita@perafita.cat
X-WR-TIMEZONE:Europe/Madrid
DESCRIPTION:A partir del 23 d'octubre i fins el mes de desembre. 

URI:https://www.perafita.cat/actualitat/agenda/emocionart-al-llucanes.html
CLASS:PUBLIC
END:VEVENT
END:VCALENDAR
