BEGIN:VCALENDAR
VERSION:2.0
CALSCALE:GREGORIAN
PRODID:-//Diputació de Barcelona//DibaCMS//EN
BEGIN:VEVENT
UID:2572
DTSTAMP:20260419T184542
DTSTART:20240911T103000
DTEND:20240911T130000
SUMMARY:Diana Nacional Lluçanès 2024
LOCATION:Plaça de Sant Antoni 
METHOD:PUBLISH
X-WR-CALNAME:perafita@perafita.cat
X-WR-TIMEZONE:Europe/Madrid
DESCRIPTION:
URI:https://www.perafita.cat/actualitat/agenda/diana-nacional-llucanes-2024.html
CLASS:PUBLIC
END:VEVENT
END:VCALENDAR
