BEGIN:VCALENDAR
VERSION:2.0
CALSCALE:GREGORIAN
PRODID:-//Diputació de Barcelona//DibaCMS//EN
BEGIN:VEVENT
UID:2570
DTSTAMP:20260419T171131
DTSTART:20240828T213000
DTEND:20240828T223000
SUMMARY:Processó de Sant Agustí
LOCATION:
METHOD:PUBLISH
X-WR-CALNAME:perafita@perafita.cat
X-WR-TIMEZONE:Europe/Madrid
DESCRIPTION:
URI:https://www.perafita.cat/actualitat/agenda/2570-processo-de-sant-agusti.html
CLASS:PUBLIC
END:VEVENT
END:VCALENDAR
