BEGIN:VCALENDAR
VERSION:2.0
CALSCALE:GREGORIAN
PRODID:-//Diputació de Barcelona//DibaCMS//EN
BEGIN:VEVENT
UID:2568
DTSTAMP:20260419T171439
DTSTART:20240802T200000
DTEND:20240802T230000
SUMMARY:Perifèria Cultural
LOCATION:Can Riera 
METHOD:PUBLISH
X-WR-CALNAME:perafita@perafita.cat
X-WR-TIMEZONE:Europe/Madrid
DESCRIPTION:
URI:https://www.perafita.cat/actualitat/agenda/2568-periferia-cultural.html
CLASS:PUBLIC
END:VEVENT
END:VCALENDAR
