BEGIN:VCALENDAR
VERSION:2.0
CALSCALE:GREGORIAN
PRODID:-//Diputació de Barcelona//DibaCMS//EN
BEGIN:VEVENT
UID:2561
DTSTAMP:20260419T184801
DTSTART:20240721T090000
DTEND:20240721T130000
SUMMARY:Aplec de Santa Margarida
LOCATION:Santa Margarida 
METHOD:PUBLISH
X-WR-CALNAME:perafita@perafita.cat
X-WR-TIMEZONE:Europe/Madrid
DESCRIPTION:Esmorzar i missa a Santa Margarida.

URI:https://www.perafita.cat/actualitat/agenda/2561-aplec-de-santa-margarida.html
CLASS:PUBLIC
END:VEVENT
END:VCALENDAR
