BEGIN:VCALENDAR
VERSION:2.0
CALSCALE:GREGORIAN
PRODID:-//Diputació de Barcelona//DibaCMS//EN
BEGIN:VEVENT
UID:2555
DTSTAMP:20260419T190310
DTSTART:20240619T170000
DTEND:20240619T183000
SUMMARY:1º edició Escola de Salut del Lluçanès
LOCATION:El Niu 
METHOD:PUBLISH
X-WR-CALNAME:perafita@perafita.cat
X-WR-TIMEZONE:Europe/Madrid
DESCRIPTION:Juny: mes de l'alimentació saludable (amb berenar saludable per a tothom). Xerrades i activitats impulsades per l'ABS Lluçanès adreçades a tota la població.

URI:https://www.perafita.cat/actualitat/agenda/1o-edicio-escola-de-salut-del-llucanes.html
CLASS:PUBLIC
END:VEVENT
END:VCALENDAR
