BEGIN:VCALENDAR
VERSION:2.0
CALSCALE:GREGORIAN
PRODID:-//Diputació de Barcelona//DibaCMS//EN
BEGIN:VEVENT
UID:2553
DTSTAMP:20260422T120554
DTSTART:20240614T190000
DTEND:20240614T200000
SUMMARY:"Les normes són clares"
LOCATION:Sala Polivalent del Centre de Cultura 
METHOD:PUBLISH
X-WR-CALNAME:perafita@perafita.cat
X-WR-TIMEZONE:Europe/Madrid
DESCRIPTION:Curmetratge realitzat pels Grans de l'Escola!

URI:https://www.perafita.cat/actualitat/agenda/les-normes-son-clares.html
CLASS:PUBLIC
END:VEVENT
END:VCALENDAR
