BEGIN:VCALENDAR
VERSION:2.0
CALSCALE:GREGORIAN
PRODID:-//Diputació de Barcelona//DibaCMS//EN
BEGIN:VEVENT
UID:2545
DTSTAMP:20260419T220222
DTSTART:20240421T090000
DTEND:20240421T140000
SUMMARY:Fira d'intercanvi
LOCATION:Avinguda de Perafita 
METHOD:PUBLISH
X-WR-CALNAME:perafita@perafita.cat
X-WR-TIMEZONE:Europe/Madrid
DESCRIPTION:
URI:https://www.perafita.cat/actualitat/agenda/2545-fira-dintercanvi.html
CLASS:PUBLIC
END:VEVENT
END:VCALENDAR
