BEGIN:VCALENDAR
VERSION:2.0
CALSCALE:GREGORIAN
PRODID:-//Diputació de Barcelona//DibaCMS//EN
BEGIN:VEVENT
UID:2543
DTSTAMP:20260419T172811
DTSTART:20240430T103000
DTEND:20240430T123000
SUMMARY:Torneig bitlles catalanes
LOCATION:
METHOD:PUBLISH
X-WR-CALNAME:perafita@perafita.cat
X-WR-TIMEZONE:Europe/Madrid
DESCRIPTION:Torneig organitzat pels alumnes de 2n d ESO de l'Institut Castell del Quer.

URI:https://www.perafita.cat/actualitat/agenda/torneig-bitlles-catalanes.html
CLASS:PUBLIC
END:VEVENT
END:VCALENDAR
