BEGIN:VCALENDAR
VERSION:2.0
CALSCALE:GREGORIAN
PRODID:-//Diputació de Barcelona//DibaCMS//EN
BEGIN:VEVENT
UID:2538
DTSTAMP:20260419T184715
DTSTART:20240423T160000
DTEND:20240423T180000
SUMMARY:Jocs Florals 2024
LOCATION:Pla de Sant Antoni 
METHOD:PUBLISH
X-WR-CALNAME:perafita@perafita.cat
X-WR-TIMEZONE:Europe/Madrid
DESCRIPTION:
URI:https://www.perafita.cat/actualitat/agenda/jocs-florals-2024.html
CLASS:PUBLIC
END:VEVENT
END:VCALENDAR
