BEGIN:VCALENDAR
VERSION:2.0
CALSCALE:GREGORIAN
PRODID:-//Diputació de Barcelona//DibaCMS//EN
BEGIN:VEVENT
UID:2533
DTSTAMP:20260419T220152
DTSTART:20240407T120000
DTEND:20240407T140000
SUMMARY:Concert Aulet + vermut cafè del Mig
LOCATION:Plaça de l'Església 
METHOD:PUBLISH
X-WR-CALNAME:perafita@perafita.cat
X-WR-TIMEZONE:Europe/Madrid
DESCRIPTION:El diumenge dia 7 d'abril es farà el concert-vermut aplaçat degut a la pluja. Us hi esperem!

URI:https://www.perafita.cat/actualitat/agenda/concert-aulet--vermut-cafe-del-mig.html
CLASS:PUBLIC
END:VEVENT
END:VCALENDAR
