BEGIN:VCALENDAR
VERSION:2.0
CALSCALE:GREGORIAN
PRODID:-//Diputació de Barcelona//DibaCMS//EN
BEGIN:VEVENT
UID:2497
DTSTAMP:20260419T202255
DTSTART:20231222T173000
DTEND:20231222T190000
SUMMARY:La llum del bosc
LOCATION:Cal Prats 
METHOD:PUBLISH
X-WR-CALNAME:perafita@perafita.cat
X-WR-TIMEZONE:Europe/Madrid
DESCRIPTION:Conte d'hivern i taller de manualitats a càrrec de la Clàudia Molina. Cal inscripció prèvia i dur tres rotlles de paper de w.c

URI:https://www.perafita.cat/actualitat/agenda/2497-la-llum-del-bosc.html
CLASS:PUBLIC
END:VEVENT
END:VCALENDAR
