BEGIN:VCALENDAR
VERSION:2.0
CALSCALE:GREGORIAN
PRODID:-//Diputació de Barcelona//DibaCMS//EN
BEGIN:VEVENT
UID:2461
DTSTAMP:20260419T204844
DTSTART:20231015T170000
DTEND:20231015T220000
SUMMARY:Sant Galderic
LOCATION:Plaça de Sant Antoni 
METHOD:PUBLISH
X-WR-CALNAME:perafita@perafita.cat
X-WR-TIMEZONE:Europe/Madrid
DESCRIPTION:Jocs tradicionals, xocolatada, botifarrada i música!

URI:https://www.perafita.cat/actualitat/agenda/sant-galderic.html
CLASS:PUBLIC
END:VEVENT
END:VCALENDAR
