BEGIN:VCALENDAR
VERSION:2.0
CALSCALE:GREGORIAN
PRODID:-//Diputació de Barcelona//DibaCMS//EN
BEGIN:VEVENT
UID:2457
DTSTAMP:20260419T184833
DTSTART:20231107T000000
DTEND:20231107T000000
SUMMARY:El lluçanès cap als 100
LOCATION:Plaça de Sant Antoni 
METHOD:PUBLISH
X-WR-CALNAME:perafita@perafita.cat
X-WR-TIMEZONE:Europe/Madrid
DESCRIPTION:Passejades pel Lluçanès.

URI:https://www.perafita.cat/actualitat/agenda/el-llucanes-cap-als-100.html
CLASS:PUBLIC
END:VEVENT
END:VCALENDAR
