BEGIN:VCALENDAR
VERSION:2.0
CALSCALE:GREGORIAN
PRODID:-//Diputació de Barcelona//DibaCMS//EN
BEGIN:VEVENT
UID:2455
DTSTAMP:20260419T190712
DTSTART:20231013T190000
DTEND:20231013T200000
SUMMARY:Cicle de projeccions i xerrades de muntanya (segona sessió)
LOCATION:Sala polivalent del Centre de Cultura 
METHOD:PUBLISH
X-WR-CALNAME:perafita@perafita.cat
X-WR-TIMEZONE:Europe/Madrid
DESCRIPTION:Segona sessió del cicle de projeccions i xerrades de muntanya a càrrec de Jaume Asensio: Esquí de muntanya, travessa Chamonix-Zermatt (Alps, França i Suïssa)

URI:https://www.perafita.cat/actualitat/agenda/cicle-de-projeccions-i-xerrades-de-muntanya-segona-sessio.html
CLASS:PUBLIC
END:VEVENT
END:VCALENDAR
