BEGIN:VCALENDAR
VERSION:2.0
CALSCALE:GREGORIAN
PRODID:-//Diputació de Barcelona//DibaCMS//EN
BEGIN:VEVENT
UID:2453
DTSTAMP:20260419T202111
DTSTART:20230911T103000
DTEND:20230911T130000
SUMMARY:Diada Nacional Lluçanès 2023
LOCATION:Plaça de Sant Antoni 
METHOD:PUBLISH
X-WR-CALNAME:perafita@perafita.cat
X-WR-TIMEZONE:Europe/Madrid
DESCRIPTION:Acte commemoratiu de la Diada Nacional de Catalunya, homenatge a Jaume Puig de Perafita i els seus fills.

URI:https://www.perafita.cat/actualitat/agenda/diada-nacional-llucanes-2023.html
CLASS:PUBLIC
END:VEVENT
END:VCALENDAR
