BEGIN:VCALENDAR
VERSION:2.0
CALSCALE:GREGORIAN
PRODID:-//Diputació de Barcelona//DibaCMS//EN
BEGIN:VEVENT
UID:2451
DTSTAMP:20260419T222904
DTSTART:20230904T000000
DTEND:20230904T000000
SUMMARY:Cicle de projeccions i xerrades de muntanya
LOCATION:Sala Polivalent del Centre de Cultura 
METHOD:PUBLISH
X-WR-CALNAME:perafita@perafita.cat
X-WR-TIMEZONE:Europe/Madrid
DESCRIPTION:A càrrec de Jaume Asensio.

URI:https://www.perafita.cat/actualitat/agenda/2451-cicle-de-projeccions-i-xerrades-de-muntanya.html
CLASS:PUBLIC
END:VEVENT
END:VCALENDAR
