BEGIN:VCALENDAR
VERSION:2.0
CALSCALE:GREGORIAN
PRODID:-//Diputació de Barcelona//DibaCMS//EN
BEGIN:VEVENT
UID:2436
DTSTAMP:20260419T204507
DTSTART:20231022T120000
DTEND:20231022T140000
SUMMARY:Intrús, Jazz pel forat del pany
LOCATION:Golpes de Cal Prats 
METHOD:PUBLISH
X-WR-CALNAME:perafita@perafita.cat
X-WR-TIMEZONE:Europe/Madrid
DESCRIPTION:
URI:https://www.perafita.cat/actualitat/agenda/2436-intrus-jazz-pel-forat-del-pany.html
CLASS:PUBLIC
END:VEVENT
END:VCALENDAR
