BEGIN:VCALENDAR
VERSION:2.0
CALSCALE:GREGORIAN
PRODID:-//Diputació de Barcelona//DibaCMS//EN
BEGIN:VEVENT
UID:2435
DTSTAMP:20260419T220115
DTSTART:20230903T073000
DTEND:20230903T130000
SUMMARY:34a Caminada Perafita-Els Munts
LOCATION:
METHOD:PUBLISH
X-WR-CALNAME:perafita@perafita.cat
X-WR-TIMEZONE:Europe/Madrid
DESCRIPTION:
URI:https://www.perafita.cat/actualitat/agenda/34a-caminada-perafita-els-munts.html
CLASS:PUBLIC
END:VEVENT
END:VCALENDAR
